BEGIN:VCALENDAR
VERSION:2.0
PRODID:-//Fidelitas&#039;85 Rennertshofen - ECPv6.15.20//NONSGML v1.0//EN
CALSCALE:GREGORIAN
METHOD:PUBLISH
X-WR-CALNAME:Fidelitas&#039;85 Rennertshofen
X-ORIGINAL-URL:https://fidelitas85.de
X-WR-CALDESC:Veranstaltungen für Fidelitas&#039;85 Rennertshofen
REFRESH-INTERVAL;VALUE=DURATION:PT1H
X-Robots-Tag:noindex
X-PUBLISHED-TTL:PT1H
BEGIN:VTIMEZONE
TZID:Europe/Berlin
BEGIN:DAYLIGHT
TZOFFSETFROM:+0100
TZOFFSETTO:+0200
TZNAME:CEST
DTSTART:20240331T010000
END:DAYLIGHT
BEGIN:STANDARD
TZOFFSETFROM:+0200
TZOFFSETTO:+0100
TZNAME:CET
DTSTART:20241027T010000
END:STANDARD
BEGIN:DAYLIGHT
TZOFFSETFROM:+0100
TZOFFSETTO:+0200
TZNAME:CEST
DTSTART:20250330T010000
END:DAYLIGHT
BEGIN:STANDARD
TZOFFSETFROM:+0200
TZOFFSETTO:+0100
TZNAME:CET
DTSTART:20251026T010000
END:STANDARD
BEGIN:DAYLIGHT
TZOFFSETFROM:+0100
TZOFFSETTO:+0200
TZNAME:CEST
DTSTART:20260329T010000
END:DAYLIGHT
BEGIN:STANDARD
TZOFFSETFROM:+0200
TZOFFSETTO:+0100
TZNAME:CET
DTSTART:20261025T010000
END:STANDARD
END:VTIMEZONE
BEGIN:VEVENT
DTSTART;TZID=Europe/Berlin:20250105T190000
DTEND;TZID=Europe/Berlin:20250106T020000
DTSTAMP:20260425T174644
CREATED:20240730T203459Z
LAST-MODIFIED:20241129T215251Z
UID:2354-1736103600-1736128800@fidelitas85.de
SUMMARY:Krönungsball im Jubiläumsjahr
DESCRIPTION:40 Jahre Fidelitas!\nWir starten in alter Manier am 5. Januar mit dem Krönungsball in die Faschingssaison 2025. \nDer Kartenvorverkauf findet am 07.12.2024 von 17:30-18:30 Uhr in der Römerstraße 10 in Mauern statt.
URL:https://fidelitas85.de/event/kroenungsball-im-jubilaeumsjahr/
LOCATION:Turnhalle Rennertshofen\, Weinbergstraße 15\, Rennertshofen\, 86643\, Deutschland
END:VEVENT
END:VCALENDAR