BEGIN:VCALENDAR
VERSION:2.0
PRODID:-//Fidelitas&#039;85 Rennertshofen - ECPv6.15.20//NONSGML v1.0//EN
CALSCALE:GREGORIAN
METHOD:PUBLISH
X-WR-CALNAME:Fidelitas&#039;85 Rennertshofen
X-ORIGINAL-URL:https://fidelitas85.de
X-WR-CALDESC:Veranstaltungen für Fidelitas&#039;85 Rennertshofen
REFRESH-INTERVAL;VALUE=DURATION:PT1H
X-Robots-Tag:noindex
X-PUBLISHED-TTL:PT1H
BEGIN:VTIMEZONE
TZID:Europe/Berlin
BEGIN:DAYLIGHT
TZOFFSETFROM:+0100
TZOFFSETTO:+0200
TZNAME:CEST
DTSTART:20250330T010000
END:DAYLIGHT
BEGIN:STANDARD
TZOFFSETFROM:+0200
TZOFFSETTO:+0100
TZNAME:CET
DTSTART:20251026T010000
END:STANDARD
BEGIN:DAYLIGHT
TZOFFSETFROM:+0100
TZOFFSETTO:+0200
TZNAME:CEST
DTSTART:20260329T010000
END:DAYLIGHT
BEGIN:STANDARD
TZOFFSETFROM:+0200
TZOFFSETTO:+0100
TZNAME:CET
DTSTART:20261025T010000
END:STANDARD
BEGIN:DAYLIGHT
TZOFFSETFROM:+0100
TZOFFSETTO:+0200
TZNAME:CEST
DTSTART:20270328T010000
END:DAYLIGHT
BEGIN:STANDARD
TZOFFSETFROM:+0200
TZOFFSETTO:+0100
TZNAME:CET
DTSTART:20271031T010000
END:STANDARD
END:VTIMEZONE
BEGIN:VEVENT
DTSTART;TZID=Europe/Berlin:20260228T190000
DTEND;TZID=Europe/Berlin:20260301T020000
DTSTAMP:20260420T141805
CREATED:20250901T203203Z
LAST-MODIFIED:20260221T213530Z
UID:3271-1772305200-1772330400@fidelitas85.de
SUMMARY:Show Tanz Spezial
DESCRIPTION:Wir dürfen begrüßen: \n\nFaschingsgarde KonWella\nFG Bertoldsheim\nDance Explosion aus Mertingen\nPrinzengarde Dingolfing\nBreakdancegruppe WhyNot aus Wagenhofen\nLaudonia Showtanz\nMagic Dancers Grüntegernbach\nFG Wemdosia\nFaschingsclub Rain\nShowformation der Genderkinger Faschingsfreunde\nDance Venture\nBlaumeisen aus Huisheim\nIF Donauwörth\n\nEintritt: U16 5 Euro\, Ü16 10 Euro\n\nMit eurem Eintritt erhaltet ihr einen Stimmzettel und wählt somit den Sieger des Abends!\n\n- freie Sitzplatzwahl - kein Vorverkauf - nur Abendkasse -
URL:https://fidelitas85.de/event/show-tanz-spezial-3/
LOCATION:Turnhalle Rennertshofen\, Weinbergstraße 15\, Rennertshofen\, 86643\, Deutschland
END:VEVENT
END:VCALENDAR