BEGIN:VCALENDAR
VERSION:2.0
PRODID:-//Fidelitas&#039;85 Rennertshofen - ECPv6.15.20//NONSGML v1.0//EN
CALSCALE:GREGORIAN
METHOD:PUBLISH
X-WR-CALNAME:Fidelitas&#039;85 Rennertshofen
X-ORIGINAL-URL:https://fidelitas85.de
X-WR-CALDESC:Veranstaltungen für Fidelitas&#039;85 Rennertshofen
REFRESH-INTERVAL;VALUE=DURATION:PT1H
X-Robots-Tag:noindex
X-PUBLISHED-TTL:PT1H
BEGIN:VTIMEZONE
TZID:Europe/Berlin
BEGIN:DAYLIGHT
TZOFFSETFROM:+0100
TZOFFSETTO:+0200
TZNAME:CEST
DTSTART:20250330T010000
END:DAYLIGHT
BEGIN:STANDARD
TZOFFSETFROM:+0200
TZOFFSETTO:+0100
TZNAME:CET
DTSTART:20251026T010000
END:STANDARD
BEGIN:DAYLIGHT
TZOFFSETFROM:+0100
TZOFFSETTO:+0200
TZNAME:CEST
DTSTART:20260329T010000
END:DAYLIGHT
BEGIN:STANDARD
TZOFFSETFROM:+0200
TZOFFSETTO:+0100
TZNAME:CET
DTSTART:20261025T010000
END:STANDARD
BEGIN:DAYLIGHT
TZOFFSETFROM:+0100
TZOFFSETTO:+0200
TZNAME:CEST
DTSTART:20270328T010000
END:DAYLIGHT
BEGIN:STANDARD
TZOFFSETFROM:+0200
TZOFFSETTO:+0100
TZNAME:CET
DTSTART:20271031T010000
END:STANDARD
END:VTIMEZONE
BEGIN:VEVENT
DTSTART;TZID=Europe/Berlin:20260215T140000
DTEND;TZID=Europe/Berlin:20260215T230000
DTSTAMP:20260420T141331
CREATED:20250901T203019Z
LAST-MODIFIED:20260109T183203Z
UID:3267-1771164000-1771196400@fidelitas85.de
SUMMARY:Faschingsumzug & -party
DESCRIPTION:Anmeldung zum Umzug findet Ihr auf der Homepage unter https://fidelitas85.de/faschingsumzug/ \nAnschließend findet die Faschingsparty in und an der Turnhalle statt. Wir feiern heuer In- und Outdoor! \nDie Garden tanzen im Indoorbereich. Für die gute Musik sorgt DJ Ginscha. \nEintritt frei – Ausweis mitbringen!
URL:https://fidelitas85.de/event/faschingsumzug-party-3/
END:VEVENT
END:VCALENDAR