BEGIN:VCALENDAR
VERSION:2.0
PRODID:-//Fidelitas&#039;85 Rennertshofen - ECPv6.15.20//NONSGML v1.0//EN
CALSCALE:GREGORIAN
METHOD:PUBLISH
X-ORIGINAL-URL:https://fidelitas85.de
X-WR-CALDESC:Veranstaltungen für Fidelitas&#039;85 Rennertshofen
REFRESH-INTERVAL;VALUE=DURATION:PT1H
X-Robots-Tag:noindex
X-PUBLISHED-TTL:PT1H
BEGIN:VTIMEZONE
TZID:Europe/Berlin
BEGIN:DAYLIGHT
TZOFFSETFROM:+0100
TZOFFSETTO:+0200
TZNAME:CEST
DTSTART:20240331T010000
END:DAYLIGHT
BEGIN:STANDARD
TZOFFSETFROM:+0200
TZOFFSETTO:+0100
TZNAME:CET
DTSTART:20241027T010000
END:STANDARD
BEGIN:DAYLIGHT
TZOFFSETFROM:+0100
TZOFFSETTO:+0200
TZNAME:CEST
DTSTART:20250330T010000
END:DAYLIGHT
BEGIN:STANDARD
TZOFFSETFROM:+0200
TZOFFSETTO:+0100
TZNAME:CET
DTSTART:20251026T010000
END:STANDARD
BEGIN:DAYLIGHT
TZOFFSETFROM:+0100
TZOFFSETTO:+0200
TZNAME:CEST
DTSTART:20260329T010000
END:DAYLIGHT
BEGIN:STANDARD
TZOFFSETFROM:+0200
TZOFFSETTO:+0100
TZNAME:CET
DTSTART:20261025T010000
END:STANDARD
END:VTIMEZONE
BEGIN:VEVENT
DTSTART;VALUE=DATE:20250227
DTEND;VALUE=DATE:20250228
DTSTAMP:20260424T145703
CREATED:20240730T204437Z
LAST-MODIFIED:20250110T190158Z
UID:2366-1740614400-1740700799@fidelitas85.de
SUMMARY:Hausball
DESCRIPTION:Wie in der Saison 2024 veranstalten wir auch in der Saison 2025 wieder einen Hausball! \nDer Vorverkauf findet am Samstag den 08.02.2025 von 10:00 Uhr bis 12:00 Uhr bei der Firma Markmiller in der Marktstraße statt. \nRestkarten gibt es an der Tageskasse\, unter 0170/1806238 oder vorstand@fidelitas85.de.
URL:https://fidelitas85.de/event/hausball/
LOCATION:Turnhalle Rennertshofen\, Weinbergstraße 15\, Rennertshofen\, 86643\, Deutschland
END:VEVENT
END:VCALENDAR