BEGIN:VCALENDAR
VERSION:2.0
PRODID:-//Fidelitas&#039;85 Rennertshofen - ECPv6.15.20//NONSGML v1.0//EN
CALSCALE:GREGORIAN
METHOD:PUBLISH
X-WR-CALNAME:Fidelitas&#039;85 Rennertshofen
X-ORIGINAL-URL:https://fidelitas85.de
X-WR-CALDESC:Veranstaltungen für Fidelitas&#039;85 Rennertshofen
REFRESH-INTERVAL;VALUE=DURATION:PT1H
X-Robots-Tag:noindex
X-PUBLISHED-TTL:PT1H
BEGIN:VTIMEZONE
TZID:Europe/Berlin
BEGIN:DAYLIGHT
TZOFFSETFROM:+0100
TZOFFSETTO:+0200
TZNAME:CEST
DTSTART:20240331T010000
END:DAYLIGHT
BEGIN:STANDARD
TZOFFSETFROM:+0200
TZOFFSETTO:+0100
TZNAME:CET
DTSTART:20241027T010000
END:STANDARD
BEGIN:DAYLIGHT
TZOFFSETFROM:+0100
TZOFFSETTO:+0200
TZNAME:CEST
DTSTART:20250330T010000
END:DAYLIGHT
BEGIN:STANDARD
TZOFFSETFROM:+0200
TZOFFSETTO:+0100
TZNAME:CET
DTSTART:20251026T010000
END:STANDARD
BEGIN:DAYLIGHT
TZOFFSETFROM:+0100
TZOFFSETTO:+0200
TZNAME:CEST
DTSTART:20260329T010000
END:DAYLIGHT
BEGIN:STANDARD
TZOFFSETFROM:+0200
TZOFFSETTO:+0100
TZNAME:CET
DTSTART:20261025T010000
END:STANDARD
END:VTIMEZONE
BEGIN:VEVENT
DTSTART;TZID=Europe/Berlin:20250222T183000
DTEND;TZID=Europe/Berlin:20250223T000000
DTSTAMP:20260424T230342
CREATED:20241129T215523Z
LAST-MODIFIED:20250110T190039Z
UID:2595-1740249000-1740268800@fidelitas85.de
SUMMARY:Teens on Stage & DJ Night
DESCRIPTION:Heuer geben wir den Teenies und Jugendgruppen die Möglichkeit\, untereinander ihre Tänze zu präsentieren und danach mit DJ Ginscha bei alkoholfreien Cocktails\, Bier und co. bis 24 Uhr Party zu machen. \nEinlass ist um 18:00 Uhr\, Beginn um 18:30 Uhr. \nInfos zu den Gastgruppen folgen!
URL:https://fidelitas85.de/event/teens-on-stage-dj-night/
LOCATION:Turnhalle Rennertshofen\, Weinbergstraße 15\, Rennertshofen\, 86643\, Deutschland
END:VEVENT
END:VCALENDAR